BEGIN:VCALENDAR
VERSION:2.0
PRODID:-//Oslogruppen av NRRL - ECPv6.15.20//NONSGML v1.0//EN
CALSCALE:GREGORIAN
METHOD:PUBLISH
X-WR-CALNAME:Oslogruppen av NRRL
X-ORIGINAL-URL:https://la4o.no
X-WR-CALDESC:Arrangement for Oslogruppen av NRRL
REFRESH-INTERVAL;VALUE=DURATION:PT1H
X-Robots-Tag:noindex
X-PUBLISHED-TTL:PT1H
BEGIN:VTIMEZONE
TZID:Europe/Oslo
BEGIN:DAYLIGHT
TZOFFSETFROM:+0100
TZOFFSETTO:+0200
TZNAME:CEST
DTSTART:20250330T010000
END:DAYLIGHT
BEGIN:STANDARD
TZOFFSETFROM:+0200
TZOFFSETTO:+0100
TZNAME:CET
DTSTART:20251026T010000
END:STANDARD
BEGIN:DAYLIGHT
TZOFFSETFROM:+0100
TZOFFSETTO:+0200
TZNAME:CEST
DTSTART:20260329T010000
END:DAYLIGHT
BEGIN:STANDARD
TZOFFSETFROM:+0200
TZOFFSETTO:+0100
TZNAME:CET
DTSTART:20261025T010000
END:STANDARD
BEGIN:DAYLIGHT
TZOFFSETFROM:+0100
TZOFFSETTO:+0200
TZNAME:CEST
DTSTART:20270328T010000
END:DAYLIGHT
BEGIN:STANDARD
TZOFFSETFROM:+0200
TZOFFSETTO:+0100
TZNAME:CET
DTSTART:20271031T010000
END:STANDARD
END:VTIMEZONE
BEGIN:VEVENT
DTSTART;TZID=Europe/Oslo:20260303T183000
DTEND;TZID=Europe/Oslo:20260303T213000
DTSTAMP:20260424T160820
CREATED:20260224T005052Z
LAST-MODIFIED:20260224T005052Z
UID:7619-1772562600-1772573400@la4o.no
SUMMARY:Styremøte på Rommen
DESCRIPTION:Styremøte på Rommen. \n 
URL:https://la4o.no/event/styremote-pa-rommen-12
LOCATION:HQ LA4O Rommen\, Nedre Rommen 5 E\, Oslo\, 0988\, Norway
CATEGORIES:Styremøte
END:VEVENT
BEGIN:VEVENT
DTSTART;TZID=Europe/Oslo:20260324T183000
DTEND;TZID=Europe/Oslo:20260324T213000
DTSTAMP:20260424T160820
CREATED:20260315T172118Z
LAST-MODIFIED:20260315T172118Z
UID:7718-1774377000-1774387800@la4o.no
SUMMARY:Styremøte på Rommen
DESCRIPTION:Styremøte på Rommen. \n 
URL:https://la4o.no/event/styremote-pa-rommen-13
LOCATION:HQ LA4O Rommen\, Nedre Rommen 5 E\, Oslo\, 0988\, Norway
CATEGORIES:Styremøte
END:VEVENT
END:VCALENDAR