BEGIN:VCALENDAR
VERSION:2.0
PRODID:-//Oslogruppen av NRRL - ECPv6.15.20//NONSGML v1.0//EN
CALSCALE:GREGORIAN
METHOD:PUBLISH
X-WR-CALNAME:Oslogruppen av NRRL
X-ORIGINAL-URL:https://la4o.no
X-WR-CALDESC:Arrangement for Oslogruppen av NRRL
REFRESH-INTERVAL;VALUE=DURATION:PT1H
X-Robots-Tag:noindex
X-PUBLISHED-TTL:PT1H
BEGIN:VTIMEZONE
TZID:Europe/Oslo
BEGIN:DAYLIGHT
TZOFFSETFROM:+0100
TZOFFSETTO:+0200
TZNAME:CEST
DTSTART:20250330T010000
END:DAYLIGHT
BEGIN:STANDARD
TZOFFSETFROM:+0200
TZOFFSETTO:+0100
TZNAME:CET
DTSTART:20251026T010000
END:STANDARD
BEGIN:DAYLIGHT
TZOFFSETFROM:+0100
TZOFFSETTO:+0200
TZNAME:CEST
DTSTART:20260329T010000
END:DAYLIGHT
BEGIN:STANDARD
TZOFFSETFROM:+0200
TZOFFSETTO:+0100
TZNAME:CET
DTSTART:20261025T010000
END:STANDARD
BEGIN:DAYLIGHT
TZOFFSETFROM:+0100
TZOFFSETTO:+0200
TZNAME:CEST
DTSTART:20270328T010000
END:DAYLIGHT
BEGIN:STANDARD
TZOFFSETFROM:+0200
TZOFFSETTO:+0100
TZNAME:CET
DTSTART:20271031T010000
END:STANDARD
END:VTIMEZONE
BEGIN:VEVENT
DTSTART;TZID=Europe/Oslo:20260114T193000
DTEND;TZID=Europe/Oslo:20260114T213000
DTSTAMP:20260424T161033
CREATED:20251211T120541Z
LAST-MODIFIED:20260104T133556Z
UID:7338-1768419000-1768426200@la4o.no
SUMMARY:Medlemsmøte for nye radioamatører: "Hvordan komme seg på lufta?"
DESCRIPTION:Ved LA8OKA Martin. Sted: Rommen. Du kan også delta via Zoom\, meld deg på her \nKaffe og kaker fra kl 18.30. \n 
URL:https://la4o.no/event/medlemsmote-for-nye-radioamatorer-hvordan-komme-seg-pa-lufta
LOCATION:HQ LA4O Rommen og Zoom\, Nedre Rommen 5E\, Oslo\, 0988\, Norway
CATEGORIES:Kurs,Møter
END:VEVENT
END:VCALENDAR