BEGIN:VCALENDAR
VERSION:2.0
PRODID:-//Oslogruppen av NRRL - ECPv6.15.20//NONSGML v1.0//EN
CALSCALE:GREGORIAN
METHOD:PUBLISH
X-ORIGINAL-URL:https://la4o.no
X-WR-CALDESC:Arrangement for Oslogruppen av NRRL
REFRESH-INTERVAL;VALUE=DURATION:PT1H
X-Robots-Tag:noindex
X-PUBLISHED-TTL:PT1H
BEGIN:VTIMEZONE
TZID:Europe/Oslo
BEGIN:DAYLIGHT
TZOFFSETFROM:+0100
TZOFFSETTO:+0200
TZNAME:CEST
DTSTART:20240331T010000
END:DAYLIGHT
BEGIN:STANDARD
TZOFFSETFROM:+0200
TZOFFSETTO:+0100
TZNAME:CET
DTSTART:20241027T010000
END:STANDARD
BEGIN:DAYLIGHT
TZOFFSETFROM:+0100
TZOFFSETTO:+0200
TZNAME:CEST
DTSTART:20250330T010000
END:DAYLIGHT
BEGIN:STANDARD
TZOFFSETFROM:+0200
TZOFFSETTO:+0100
TZNAME:CET
DTSTART:20251026T010000
END:STANDARD
BEGIN:DAYLIGHT
TZOFFSETFROM:+0100
TZOFFSETTO:+0200
TZNAME:CEST
DTSTART:20260329T010000
END:DAYLIGHT
BEGIN:STANDARD
TZOFFSETFROM:+0200
TZOFFSETTO:+0100
TZNAME:CET
DTSTART:20261025T010000
END:STANDARD
END:VTIMEZONE
BEGIN:VEVENT
DTSTART;TZID=Europe/Oslo:20250817T090000
DTEND;TZID=Europe/Oslo:20250817T130000
DTSTAMP:20260426T025908
CREATED:20250804T223622Z
LAST-MODIFIED:20250804T223703Z
UID:6971-1755421200-1755435600@la4o.no
SUMMARY:SSA Portabeltest - høsten 2025
DESCRIPTION:Oslogruppen vil operere fra Hønefoten utfartsparkering og operere enten med bord og stoler (ta med egen stol) eller fra kjøretøy om det regner. Du kan komme deg dit med bil\, sykkel eller buss 51. Send en epost til lb6aj@la4o.no om du vil være med. \nSted: Hønefoten utfartsparkering i Maridalen \nTidspunkt: Søndag 17. august 2025 fra 09 til 13 norsk tid
URL:https://la4o.no/event/ssa-portabeltest-host
CATEGORIES:Contest
END:VEVENT
END:VCALENDAR