BEGIN:VCALENDAR
VERSION:2.0
PRODID:-//Oslogruppen av NRRL - ECPv6.15.20//NONSGML v1.0//EN
CALSCALE:GREGORIAN
METHOD:PUBLISH
X-WR-CALNAME:Oslogruppen av NRRL
X-ORIGINAL-URL:https://la4o.no
X-WR-CALDESC:Arrangement for Oslogruppen av NRRL
REFRESH-INTERVAL;VALUE=DURATION:PT1H
X-Robots-Tag:noindex
X-PUBLISHED-TTL:PT1H
BEGIN:VTIMEZONE
TZID:Europe/Oslo
BEGIN:DAYLIGHT
TZOFFSETFROM:+0100
TZOFFSETTO:+0200
TZNAME:CEST
DTSTART:20230326T010000
END:DAYLIGHT
BEGIN:STANDARD
TZOFFSETFROM:+0200
TZOFFSETTO:+0100
TZNAME:CET
DTSTART:20231029T010000
END:STANDARD
BEGIN:DAYLIGHT
TZOFFSETFROM:+0100
TZOFFSETTO:+0200
TZNAME:CEST
DTSTART:20240331T010000
END:DAYLIGHT
BEGIN:STANDARD
TZOFFSETFROM:+0200
TZOFFSETTO:+0100
TZNAME:CET
DTSTART:20241027T010000
END:STANDARD
BEGIN:DAYLIGHT
TZOFFSETFROM:+0100
TZOFFSETTO:+0200
TZNAME:CEST
DTSTART:20250330T010000
END:DAYLIGHT
BEGIN:STANDARD
TZOFFSETFROM:+0200
TZOFFSETTO:+0100
TZNAME:CET
DTSTART:20251026T010000
END:STANDARD
END:VTIMEZONE
BEGIN:VEVENT
DTSTART;TZID=Europe/Oslo:20240918T193000
DTEND;TZID=Europe/Oslo:20240918T210000
DTSTAMP:20260423T123234
CREATED:20240903T102359Z
LAST-MODIFIED:20250909T123202Z
UID:5811-1726687800-1726693200@la4o.no
SUMMARY:Medlemsmøte: Oppsummering av Field Day 2024 ved LB6AJ Eskil
DESCRIPTION:LB6AJ Eskil oppsummerer og viser bilder og rapporter fra Field Day 2024. Du kan også delta via Zoom\, meld deg på her. \nDørene åpner kl. 18.30 og foredraget starter kl. 19.30. Velkommen! \n 
URL:https://la4o.no/event/medlemsmote-oppsummering-av-field-day-2024-ved-lb6aj-eskil
LOCATION:HQ LA4O Rommen og Zoom\, Nedre Rommen 5E\, Oslo\, 0988\, Norway
CATEGORIES:Møter
END:VEVENT
END:VCALENDAR