BEGIN:VCALENDAR
VERSION:2.0
PRODID:-//Oslogruppen av NRRL - ECPv6.15.20//NONSGML v1.0//EN
CALSCALE:GREGORIAN
METHOD:PUBLISH
X-WR-CALNAME:Oslogruppen av NRRL
X-ORIGINAL-URL:https://la4o.no
X-WR-CALDESC:Arrangement for Oslogruppen av NRRL
REFRESH-INTERVAL;VALUE=DURATION:PT1H
X-Robots-Tag:noindex
X-PUBLISHED-TTL:PT1H
BEGIN:VTIMEZONE
TZID:Europe/Oslo
BEGIN:DAYLIGHT
TZOFFSETFROM:+0100
TZOFFSETTO:+0200
TZNAME:CEST
DTSTART:20250330T010000
END:DAYLIGHT
BEGIN:STANDARD
TZOFFSETFROM:+0200
TZOFFSETTO:+0100
TZNAME:CET
DTSTART:20251026T010000
END:STANDARD
BEGIN:DAYLIGHT
TZOFFSETFROM:+0100
TZOFFSETTO:+0200
TZNAME:CEST
DTSTART:20260329T010000
END:DAYLIGHT
BEGIN:STANDARD
TZOFFSETFROM:+0200
TZOFFSETTO:+0100
TZNAME:CET
DTSTART:20261025T010000
END:STANDARD
BEGIN:DAYLIGHT
TZOFFSETFROM:+0100
TZOFFSETTO:+0200
TZNAME:CEST
DTSTART:20270328T010000
END:DAYLIGHT
BEGIN:STANDARD
TZOFFSETFROM:+0200
TZOFFSETTO:+0100
TZNAME:CET
DTSTART:20271031T010000
END:STANDARD
END:VTIMEZONE
BEGIN:VEVENT
DTSTART;TZID=Europe/Oslo:20260421T180000
DTEND;TZID=Europe/Oslo:20260421T210000
DTSTAMP:20260421T120112
CREATED:20260419T094351Z
LAST-MODIFIED:20260419T094825Z
UID:7894-1776794400-1776805200@la4o.no
SUMMARY:RPO Cup løp 80m Maridalen
DESCRIPTION:Neste ROP-løp er 21.4 fra Låkeberget utfartsparkering i Maridalen. Start kl 18.00\n\nOppmøte på parkeringen ved Låkeberget:\nhttps://maps.app.goo.gl/S7yrYhH9jCVWxMKH7\n\nArrangør: LA9NGA\nLink: https://www.radioorientering.no/events/cup-lop-80m-maridalen/\n\nMottakere kan lånes på start\, alle kan delta. \n73\nJon LA9NGA \n\nVelkommen!
URL:https://la4o.no/event/rpo-cup-lop-80m-maridalen-lakeberget
LOCATION:Låkeberget\, Maridalsveien 466\, Oslo\, Norway
END:VEVENT
END:VCALENDAR